BEGIN:VCALENDAR
VERSION:2.0
PRODID:-//Go Kimmswick - ECPv6.15.20//NONSGML v1.0//EN
CALSCALE:GREGORIAN
METHOD:PUBLISH
X-ORIGINAL-URL:https://www.gokimmswick.com
X-WR-CALDESC:Events for Go Kimmswick
REFRESH-INTERVAL;VALUE=DURATION:PT1H
X-Robots-Tag:noindex
X-PUBLISHED-TTL:PT1H
BEGIN:VTIMEZONE
TZID:America/Chicago
BEGIN:DAYLIGHT
TZOFFSETFROM:-0600
TZOFFSETTO:-0500
TZNAME:CDT
DTSTART:20250309T080000
END:DAYLIGHT
BEGIN:STANDARD
TZOFFSETFROM:-0500
TZOFFSETTO:-0600
TZNAME:CST
DTSTART:20251102T070000
END:STANDARD
BEGIN:DAYLIGHT
TZOFFSETFROM:-0600
TZOFFSETTO:-0500
TZNAME:CDT
DTSTART:20260308T080000
END:DAYLIGHT
BEGIN:STANDARD
TZOFFSETFROM:-0500
TZOFFSETTO:-0600
TZNAME:CST
DTSTART:20261101T070000
END:STANDARD
BEGIN:DAYLIGHT
TZOFFSETFROM:-0600
TZOFFSETTO:-0500
TZNAME:CDT
DTSTART:20270314T080000
END:DAYLIGHT
BEGIN:STANDARD
TZOFFSETFROM:-0500
TZOFFSETTO:-0600
TZNAME:CST
DTSTART:20271107T070000
END:STANDARD
END:VTIMEZONE
BEGIN:VEVENT
DTSTART;TZID=America/Chicago:20260327T100000
DTEND;TZID=America/Chicago:20260329T170000
DTSTAMP:20260423T060306
CREATED:20260227T013806Z
LAST-MODIFIED:20260227T015205Z
UID:1146284-1774605600-1774803600@www.gokimmswick.com
SUMMARY:Hop to Shop
DESCRIPTION:Spring into fun and treat yourself to a weekend of shopping surprises March 27-29\, 2026 in charming Kimmswick\, Missouri! \n\n Adults\, this one’s for you!\n\nHop through all your favorite shops and at checkout\, pick an Easter Egg to reveal your prize! \n\nWill it be a sweet discount? A fun freebie? Only the Easter Bunny knows! Every participating merchant has a basket full of surprises just for you.\n\n BONUS for the kiddos! On Sunday from Noon to 2 PM\, bring the kids for their own egg-citing fun! Bring easter baskets and collect eggs from participating merchants.\n\nCome for the deals\, stay for the fun\, and enjoy a springtime stroll through beautiful Kimmswick. 
URL:https://www.gokimmswick.com/events/hop-to-shop/
LOCATION:Kimmswick Visitor Center\, 314 Market Street\, Kimmswick\, MO\, 63053
ATTACH;FMTTYPE=image/png:https://www.gokimmswick.com/wp-content/uploads/2026/02/Saturday-March-24-6.png
END:VEVENT
END:VCALENDAR