BEGIN:VCALENDAR
VERSION:2.0
PRODID:-//Go Kimmswick - ECPv6.15.20//NONSGML v1.0//EN
CALSCALE:GREGORIAN
METHOD:PUBLISH
X-ORIGINAL-URL:https://www.gokimmswick.com
X-WR-CALDESC:Events for Go Kimmswick
REFRESH-INTERVAL;VALUE=DURATION:PT1H
X-Robots-Tag:noindex
X-PUBLISHED-TTL:PT1H
BEGIN:VTIMEZONE
TZID:America/Chicago
BEGIN:DAYLIGHT
TZOFFSETFROM:-0600
TZOFFSETTO:-0500
TZNAME:CDT
DTSTART:20250309T080000
END:DAYLIGHT
BEGIN:STANDARD
TZOFFSETFROM:-0500
TZOFFSETTO:-0600
TZNAME:CST
DTSTART:20251102T070000
END:STANDARD
BEGIN:DAYLIGHT
TZOFFSETFROM:-0600
TZOFFSETTO:-0500
TZNAME:CDT
DTSTART:20260308T080000
END:DAYLIGHT
BEGIN:STANDARD
TZOFFSETFROM:-0500
TZOFFSETTO:-0600
TZNAME:CST
DTSTART:20261101T070000
END:STANDARD
BEGIN:DAYLIGHT
TZOFFSETFROM:-0600
TZOFFSETTO:-0500
TZNAME:CDT
DTSTART:20270314T080000
END:DAYLIGHT
BEGIN:STANDARD
TZOFFSETFROM:-0500
TZOFFSETTO:-0600
TZNAME:CST
DTSTART:20271107T070000
END:STANDARD
END:VTIMEZONE
BEGIN:VEVENT
DTSTART;VALUE=DATE:20260417
DTEND;VALUE=DATE:20260420
DTSTAMP:20260423T041954
CREATED:20240410T222206Z
LAST-MODIFIED:20260227T012705Z
UID:256187-1776384000-1776643199@www.gokimmswick.com
SUMMARY:April Showers
DESCRIPTION:Kimmswick’s April Showers Event\nWhen: April 17-19\, 2026 \nJoin us in the heart of Kimmswick for a two-day event – Kimmswick’s April Showers. This special event is not just about celebrating the spring season; it’s a powerful movement towards making a difference in the lives of those who have endured too much rain in their lives. \nMake Your Contribution Count\nWith a minimum donation of $5 or by donating feminine/women’s products\, you’ll receive an exclusive Passport to Kimmswick. This passport is your key to exploring unique offers and experiences throughout our town\, all while supporting a noble cause. \nSupporting Mary’s House of Hope\nEvery contribution made during Kimmswick’s April Showers will directly benefit Mary’s House of Hope in Festus. This remarkable organization is dedicated to providing a haven for women and children escaping domestic violence. By offering a safe environment\, Mary’s House of Hope empowers its residents to transition from the shadows of abuse to the light of independence and strength. It’s not just about escaping violence; it’s about building a future where every woman and child can thrive as survivors. \n\nPlan Your Visit to Kimmswick!\nMake the most of your trip with everything Kimmswick has to offer: \nShop: Discover unique boutiques\, charming gifts\, and local treasures. Explore Shops\nDine: Indulge in delicious meals and sweet treats at our local restaurants. See Dining Options\nStay: Turn your visit into a getaway and enjoy nearby lodging. Find Lodging \nStart planning your perfect day (or weekend) in Kimmswick today!
URL:https://www.gokimmswick.com/events/april-showers/
ATTACH;FMTTYPE=image/png:https://www.gokimmswick.com/wp-content/uploads/2024/04/Showers-1-1.png
END:VEVENT
END:VCALENDAR