BEGIN:VCALENDAR
VERSION:2.0
PRODID:-//Go Kimmswick - ECPv6.15.20//NONSGML v1.0//EN
CALSCALE:GREGORIAN
METHOD:PUBLISH
X-ORIGINAL-URL:https://www.gokimmswick.com
X-WR-CALDESC:Events for Go Kimmswick
REFRESH-INTERVAL;VALUE=DURATION:PT1H
X-Robots-Tag:noindex
X-PUBLISHED-TTL:PT1H
BEGIN:VTIMEZONE
TZID:America/Chicago
BEGIN:DAYLIGHT
TZOFFSETFROM:-0600
TZOFFSETTO:-0500
TZNAME:CDT
DTSTART:20250309T080000
END:DAYLIGHT
BEGIN:STANDARD
TZOFFSETFROM:-0500
TZOFFSETTO:-0600
TZNAME:CST
DTSTART:20251102T070000
END:STANDARD
BEGIN:DAYLIGHT
TZOFFSETFROM:-0600
TZOFFSETTO:-0500
TZNAME:CDT
DTSTART:20260308T080000
END:DAYLIGHT
BEGIN:STANDARD
TZOFFSETFROM:-0500
TZOFFSETTO:-0600
TZNAME:CST
DTSTART:20261101T070000
END:STANDARD
BEGIN:DAYLIGHT
TZOFFSETFROM:-0600
TZOFFSETTO:-0500
TZNAME:CDT
DTSTART:20270314T080000
END:DAYLIGHT
BEGIN:STANDARD
TZOFFSETFROM:-0500
TZOFFSETTO:-0600
TZNAME:CST
DTSTART:20271107T070000
END:STANDARD
END:VTIMEZONE
BEGIN:VEVENT
DTSTART;VALUE=DATE:20260509
DTEND;VALUE=DATE:20260511
DTSTAMP:20260423T060048
CREATED:20240131T222733Z
LAST-MODIFIED:20260227T011345Z
UID:256106-1778284800-1778457599@www.gokimmswick.com
SUMMARY:Mother's Day Weekend
DESCRIPTION:Celebrate Mother’s Day Weekend in Kimmswick! 🌸\nDate: May 9-10\, 2026\nLocation: Kimmswick\, MO \nThis Mother’s Day\, treat your mom to a weekend she’ll never forget in the charming town of Kimmswick\, Missouri! Join us for a two-day celebration that combines the joy of shopping with the pleasure of making memories in our scenic locale. Whether you’re a local or visiting\, Kimmswick offers the perfect backdrop to show your mom how much she means to you. \nSpecial Shopping Passport Experience \nUnlock exclusive deals and delightful surprises with our specially curated Mother’s Day Shopping Passport. As you wander through our picturesque streets\, this passport will guide you and your mom to exclusive deals and offers at each of our participating merchants. From quaint boutiques to artisanal shops\, discover unique treasures and perfect gifts that will make your mom feel cherished. \nWhat to Expect: \n\nExclusive Deals: Each passport holder gains access to special discounts and offers not available to the general public. Each passport is available at the Kimmswick Visitors Center\, Restaurants\, and participating shops.\nHandpicked Merchants: Explore our curated selection of shops offering everything from handmade jewelry and crafts to gourmet treats and fashion.\nMemorable Moments: Create lasting memories with your mom as you enjoy the beauty and hospitality of Kimmswick.\n\nPlan Your Visit: \n\nEvent Hours: Shops open from 10 AM to 5 PM on May 9 & 10\nPassport Pickup: Collect your Shopping Passport at the Kimmswick Visitor Center\, Restaurants or Participating Shops\nAccommodations: Make the most of your visit by staying in one of our cozy inns or bed-and-breakfasts. Early booking is recommended!\n\nMake It a Weekend to Remember \nBeyond shopping\, Kimmswick is set to enchant you with its historic charm and warm community vibe. Enjoy leisurely walks along our beautiful streets\, dine at our delightful eateries\, and soak in the serene atmosphere that makes Kimmswick a jewel of Missouri. \nJoin Us for a Celebration of Love and Appreciation \nThis Mother’s Day Weekend\, let Kimmswick be the backdrop to the stories you’ll tell for years to come. We’re excited to welcome you and your beloved moms for a weekend filled with joy\, laughter\, and shopping! \nFor more information\, visit our website or contact the Kimmswick Visitor Center. \n\nPlan Your Visit to Kimmswick!\nMake the most of your trip with everything Kimmswick has to offer: \nShop: Discover unique boutiques\, charming gifts\, and local treasures. Explore Shops\nDine: Indulge in delicious meals and sweet treats at our local restaurants. See Dining Options\nStay: Turn your visit into a getaway and enjoy nearby lodging. Find Lodging \nStart planning your perfect day (or weekend) in Kimmswick today!
URL:https://www.gokimmswick.com/events/mothers-day-weekend/
LOCATION:Kimmswick Visitor Center\, 314 Market Street\, Kimmswick\, MO\, 63053
ATTACH;FMTTYPE=image/png:https://www.gokimmswick.com/wp-content/uploads/2024/01/Mothers-Day-Weekend-2.png
END:VEVENT
END:VCALENDAR