BEGIN:VCALENDAR
VERSION:2.0
PRODID:-//Go Kimmswick - ECPv6.15.20//NONSGML v1.0//EN
CALSCALE:GREGORIAN
METHOD:PUBLISH
X-WR-CALNAME:Go Kimmswick
X-ORIGINAL-URL:https://www.gokimmswick.com
X-WR-CALDESC:Events for Go Kimmswick
REFRESH-INTERVAL;VALUE=DURATION:PT1H
X-Robots-Tag:noindex
X-PUBLISHED-TTL:PT1H
BEGIN:VTIMEZONE
TZID:America/Denver
BEGIN:DAYLIGHT
TZOFFSETFROM:-0700
TZOFFSETTO:-0600
TZNAME:MDT
DTSTART:20250309T090000
END:DAYLIGHT
BEGIN:STANDARD
TZOFFSETFROM:-0600
TZOFFSETTO:-0700
TZNAME:MST
DTSTART:20251102T080000
END:STANDARD
BEGIN:DAYLIGHT
TZOFFSETFROM:-0700
TZOFFSETTO:-0600
TZNAME:MDT
DTSTART:20260308T090000
END:DAYLIGHT
BEGIN:STANDARD
TZOFFSETFROM:-0600
TZOFFSETTO:-0700
TZNAME:MST
DTSTART:20261101T080000
END:STANDARD
BEGIN:DAYLIGHT
TZOFFSETFROM:-0700
TZOFFSETTO:-0600
TZNAME:MDT
DTSTART:20270314T090000
END:DAYLIGHT
BEGIN:STANDARD
TZOFFSETFROM:-0600
TZOFFSETTO:-0700
TZNAME:MST
DTSTART:20271107T080000
END:STANDARD
END:VTIMEZONE
BEGIN:VTIMEZONE
TZID:America/Chicago
BEGIN:DAYLIGHT
TZOFFSETFROM:-0600
TZOFFSETTO:-0500
TZNAME:CDT
DTSTART:20250309T080000
END:DAYLIGHT
BEGIN:STANDARD
TZOFFSETFROM:-0500
TZOFFSETTO:-0600
TZNAME:CST
DTSTART:20251102T070000
END:STANDARD
BEGIN:DAYLIGHT
TZOFFSETFROM:-0600
TZOFFSETTO:-0500
TZNAME:CDT
DTSTART:20260308T080000
END:DAYLIGHT
BEGIN:STANDARD
TZOFFSETFROM:-0500
TZOFFSETTO:-0600
TZNAME:CST
DTSTART:20261101T070000
END:STANDARD
BEGIN:DAYLIGHT
TZOFFSETFROM:-0600
TZOFFSETTO:-0500
TZNAME:CDT
DTSTART:20270314T080000
END:DAYLIGHT
BEGIN:STANDARD
TZOFFSETFROM:-0500
TZOFFSETTO:-0600
TZNAME:CST
DTSTART:20271107T070000
END:STANDARD
END:VTIMEZONE
BEGIN:VEVENT
DTSTART;VALUE=DATE:20261024
DTEND;VALUE=DATE:20261026
DTSTAMP:20260423T185957
CREATED:20230510T193331Z
LAST-MODIFIED:20260227T003150Z
UID:238406-1792800000-1792972799@www.gokimmswick.com
SUMMARY:Apple Butter Festival
DESCRIPTION:Please Note: This is a City of Kimmswick Organized Event.For all vendor space\, parking rental\, and event-related inquiries\, please contact the City of Kimmswick directly at 636-464-7407 or visit www.cityofkimmswick.org for more information and applications. \nApple Butter Festival Kimmswick is always the last full weekend of October. This year\, it is the weekend of October 24-25\, 2026 from 10am – 5pm both days! \n\n\n\n\nPlan Your Visit to Kimmswick!\nMake the most of your trip with everything Kimmswick has to offer: \nShop: Discover unique boutiques\, charming gifts\, and local treasures. Explore Shops\nDine: Indulge in delicious meals and sweet treats at our local restaurants. See Dining Options\nStay: Turn your visit into a getaway and enjoy nearby lodging. Find Lodging \nStart planning your perfect day (or weekend) in Kimmswick today!
URL:https://www.gokimmswick.com/events/apple-butter-festival/
ATTACH;FMTTYPE=image/png:https://www.gokimmswick.com/wp-content/uploads/2023/05/Apple-Butter-2.png
END:VEVENT
BEGIN:VEVENT
DTSTART;VALUE=DATE:20261113
DTEND;VALUE=DATE:20261116
DTSTAMP:20260423T185957
CREATED:20230531T115349Z
LAST-MODIFIED:20260227T005922Z
UID:238434-1794528000-1794787199@www.gokimmswick.com
SUMMARY:Deer Widow's Weekend
DESCRIPTION:Deer Widow’s Weekend in Kimmswick – November 13-15\, 2026While the hunters are away\, it’s time for the ladies to play! Grab your besties and head to historic Kimmswick for a full weekend of shopping\, dining\, and giving back during our beloved Deer Widow’s Weekend. \nShopping Passport & DonationsMake a canned good or monetary donation and receive a Shopping Passport packed with exclusive discounts from participating shops and restaurants. Minimum suggested donation to receive passport is 3 canned good or $5. All donations support local food banks.Drop canned goods at the Visitor Center or make a donation at any participating merchant to get your passport. \nShop ‘Til You DropWander Kimmswick’s cozy streets and explore charming boutiques\, antique shops\, and specialty stores filled with fall finds and holiday treasures. \nDine & DelightFrom cozy cafés to hearty meals\, our local eateries serve up everything you need to recharge between shopping stops. \nHoliday Gifting Starts HereGet a head start on your Christmas list with thoughtful gifts from small businesses who know how to make the season special. \nMake It a Girls’ GetawayThis weekend is all about laughter\, friendship\, and creating traditions. Whether it’s a girls’ trip or a mother-daughter outing\, it’s a memory in the making. \nDon’t Miss Deer Widow’s Weekend in Kimmswick!Kick off the season with shopping\, dining\, and giving back—wrapped in the charm of historic Downtown Kimmswick. \nFor more information\, contact the Kimmswick Visitor Center at 636-464-6464.
URL:https://www.gokimmswick.com/events/deer-widows-weekend/
ATTACH;FMTTYPE=image/png:https://www.gokimmswick.com/wp-content/uploads/2023/05/Deer-Widows-Weekend-6.png
END:VEVENT
BEGIN:VEVENT
DTSTART;VALUE=DATE:20261121
DTEND;VALUE=DATE:20261122
DTSTAMP:20260423T185957
CREATED:20230725T203449Z
LAST-MODIFIED:20260227T005708Z
UID:239585-1795219200-1795305599@www.gokimmswick.com
SUMMARY:Kimmswick Christmas Parade & Open House
DESCRIPTION:Join us in Kimmswick on Saturday\, November 21nd\, 2026\, from 10 AM to 8 PM for our Christmas Open House & Parade! \nThe festive parade kicks off at 11 AM\, and shops will be open late from 10 AM to 8 PM for all your holiday shopping. Enjoy extended hours at local restaurants for a delightful dining experience. Adding to the holiday spirit\, the River Town Sound Quartet will be performing throughout town\, spreading cheer with their melodies. \nMake your list\, check it twice\, and head to Kimmswick for a fun-filled family event to get a head start on your holiday shopping! \n\nPlan Your Visit to Kimmswick!\nMake the most of your trip with everything Kimmswick has to offer: \nShop: Discover unique boutiques\, charming gifts\, and local treasures. Explore Shops\nDine: Indulge in delicious meals and sweet treats at our local restaurants. See Dining Options\nStay: Turn your visit into a getaway and enjoy nearby lodging. Find Lodging \nStart planning your perfect day (or weekend) in Kimmswick today!
URL:https://www.gokimmswick.com/events/kimmswick-christmas-parade-open-house/
ATTACH;FMTTYPE=image/png:https://www.gokimmswick.com/wp-content/uploads/2023/07/Parade-Open-House-5.png
END:VEVENT
BEGIN:VEVENT
DTSTART;VALUE=DATE:20261128
DTEND;VALUE=DATE:20261129
DTSTAMP:20260423T185957
CREATED:20230725T213603Z
LAST-MODIFIED:20260227T003546Z
UID:239674-1795824000-1795910399@www.gokimmswick.com
SUMMARY:Small Business Saturday
DESCRIPTION:Join us for a delightful celebration of community and commerce at Kimmswick’s Shop Local and Shop Small event on Saturday\, November 28th\, 2026! Experience the heartwarming charm of Kimmswick as we come together to support our local businesses on this special day. \nEmbrace the spirit of Small Business Saturday\, an initiative sparked by American Express in 2010 to shine a spotlight on local businesses within communities. This November 28th\, we invite you to be a part of this nationwide movement by exploring the treasures that over 25 Kimmswick merchants have prepared exclusively for you. \nDiscover unique offers\, thoughtful gifts\, and a warm sense of community as you stroll through our picturesque town. By joining us\, you’re not only enjoying a day of shopping but actively contributing to the growth and vitality of our beloved Kimmswick. \nLet’s make this Small Business Saturday a memorable occasion filled with support\, connection\, and the joy of discovering something special around every corner. See you in Kimmswick! \n\nPlan Your Visit to Kimmswick!\nMake the most of your trip with everything Kimmswick has to offer: \nShop: Discover unique boutiques\, charming gifts\, and local treasures. Explore Shops\nDine: Indulge in delicious meals and sweet treats at our local restaurants. See Dining Options\nStay: Turn your visit into a getaway and enjoy nearby lodging. Find Lodging \nStart planning your perfect day (or weekend) in Kimmswick today!
URL:https://www.gokimmswick.com/events/small-business-saturday/
ATTACH;FMTTYPE=image/png:https://www.gokimmswick.com/wp-content/uploads/2023/07/Small-Business-Saturday-Facebook-Post-4.png
END:VEVENT
BEGIN:VEVENT
DTSTART;TZID=America/Chicago:20261128T100000
DTEND;TZID=America/Chicago:20261128T170000
DTSTAMP:20260423T185957
CREATED:20250822T161748Z
LAST-MODIFIED:20260227T020621Z
UID:559842-1795860000-1795885200@www.gokimmswick.com
SUMMARY:Kimmswick Stocking Stroll
DESCRIPTION:Kick off the holiday season with the 2nd Annual Stocking Stroll! Just like the beloved Cookie Walk\, this festive experience invites you to explore our charming town as you go shop to shop collecting holiday treasures. \nEach of the participating shops will gift you a special stocking stuffer. By the end of your stroll\, your holiday bag will be filled with over $100 worth of unique gifts to take home and use as stocking stuffers! \nThis is more than shopping—it’s a festive adventure through Kimmswick during Small Business Saturday\, complete with holiday cheer\, small-town charm\, and one-of-a-kind finds. \nTicket Includes:\nHoliday bag with over $100 in gifts collected shop by shop\nEntry to the festive Stocking Stroll experience with participating merchants
URL:https://www.gokimmswick.com/events/stocking-stroll/
LOCATION:Kimmswick Visitor Center\, 314 Market Street\, Kimmswick\, MO\, 63053
ATTACH;FMTTYPE=image/png:https://www.gokimmswick.com/wp-content/uploads/2025/08/Stocking-Storll.png
END:VEVENT
BEGIN:VEVENT
DTSTART;VALUE=DATE:20261203
DTEND;VALUE=DATE:20261207
DTSTAMP:20260423T185957
CREATED:20230726T011653Z
LAST-MODIFIED:20260227T003339Z
UID:239514-1796256000-1796601599@www.gokimmswick.com
SUMMARY:Kimmswick Cookie Walk
DESCRIPTION:Step into the magic of the holiday season in Kimmswick! From December 3-6\, 2026 join us for the much-anticipated Kimmswick Cookie Walk\, happening alongside the Kimmswick Christmas Festival. \nAbout the Cookie Walk\nThis ticketed event is a holiday tradition you won’t want to miss! Your Cookie Walk ticket includes a holiday cookbook filled with shop owners’ favorite sweet recipes\, a festive gift bag\, and a map to guide you through town as you collect delicious sweet treats from participating merchants. \nGetting Your Tickets\nYour PayPal receipt serves as your ticket! Start your journey at the Kimmswick Visitor Center\, where you can exchange your receipt for your gift bag\, cookbook\, and map. \nChristmas Festival Fun\nEven if you don’t have a Cookie Walk ticket\, Kimmswick welcomes everyone to enjoy the free Christmas Festival\, featuring carolers\, carriage rides\, glowing luminaries\, and delightful activities for all ages. Stroll through charming shops\, dine at local favorites\, and soak in the magic of the season! \nMake Your Holiday Sweet\nGather your friends and family\, and let the festive spirit of Kimmswick fill your heart with joy. Whether you’re here for the Cookie Walk or the Christmas Festival\, there’s something special waiting for you in our enchanting town. We can’t wait to celebrate the season with you! \n\n\nPlan Your Visit to Kimmswick!\nMake the most of your trip with everything Kimmswick has to offer: \nShop: Discover unique boutiques\, charming gifts\, and local treasures. Explore Shops\nDine: Indulge in delicious meals and sweet treats at our local restaurants. See Dining Options\nStay: Turn your visit into a getaway and enjoy nearby lodging. Find Lodging \nStart planning your perfect day (or weekend) in Kimmswick today!
URL:https://www.gokimmswick.com/events/kimmswick-cookie-walk/
ATTACH;FMTTYPE=image/png:https://www.gokimmswick.com/wp-content/uploads/2023/07/ChatGPT-Image-Jan-28-2026-11_11_11-AM.png
END:VEVENT
BEGIN:VEVENT
DTSTART;VALUE=DATE:20261204
DTEND;VALUE=DATE:20261207
DTSTAMP:20260423T185957
CREATED:20230725T213828Z
LAST-MODIFIED:20260227T010705Z
UID:239678-1796342400-1796601599@www.gokimmswick.com
SUMMARY:Kimmswick Christmas Festival
DESCRIPTION:Join us in the enchanting town of Kimmswick for a magical Christmas Festival from December 4-6\, 2026! Experience the charm of historic buildings adorned in festive Christmas decorations. Immerse yourself in the joyous melodies of carolers and let the warm glow of luminaries illuminate your path as you embrace the spirit of the season during our cherished annual Christmas Festival. Plus\, don’t miss the chance to meet Santa Claus himself! \nThe Old Fashioned Christmas Festival in Kimmswick is a cherished annual tradition designed to celebrate and promote the unique businesses that make our town so special. Unlike the Strawberry Festival or Apple Butter Festival\, this event focuses on highlighting our local merchants and shops rather than hosting outside vendors. We encourage everyone to visit our stores and enjoy the holiday spirit throughout the festival. Don’t miss this opportunity to create cherished memories with loved ones and immerse yourself in the holiday spirit in Kimmswick’s picturesque setting. We can’t wait to share the magic of the season with you! \nTHRE ARE NO OUTSIDE VENDORS ALLOWED AT THIS EVENT\, ONLY KIMMSWICK MERCHANTS. PLEASE DO NOT MESSAGE ANYONE ON SOCIAL MEDIA CLAIMING TO BE SELLING VENDOR SPOTS. \n\nPlan Your Visit to Kimmswick!\nMake the most of your trip with everything Kimmswick has to offer: \nShop: Discover unique boutiques\, charming gifts\, and local treasures. Explore Shops\nDine: Indulge in delicious meals and sweet treats at our local restaurants. See Dining Options\nStay: Turn your visit into a getaway and enjoy nearby lodging. Find Lodging \nStart planning your perfect day (or weekend) in Kimmswick today!
URL:https://www.gokimmswick.com/events/kimmswick-christmas-festival/
ATTACH;FMTTYPE=image/png:https://www.gokimmswick.com/wp-content/uploads/2023/07/ChatGPT-Image-Jan-28-2026-10_59_30-AM.png
END:VEVENT
BEGIN:VEVENT
DTSTART;VALUE=DATE:20261212
DTEND;VALUE=DATE:20261221
DTSTAMP:20260423T185957
CREATED:20230725T214554Z
LAST-MODIFIED:20260312T220051Z
UID:239683-1797033600-1797811199@www.gokimmswick.com
SUMMARY:Kimmswick Elf Hunt
DESCRIPTION:Santa’s Elf will be visiting Kimmswick on the weekends of December 12-13 and December 19-20\, 2026! Children can participate in our fun\, ticketed event\, which includes a Kimmswick Gift Bag with an Elf Guide and an Activity Book filled with riddles. The riddles contain clues to where an elf is hiding in each store. Once children find the elf\, they can head to the merchant’s register to claim a small prize. It’s a delightful way for children to explore Kimmswick\, search for elves\, and get into the holiday spirit! \nDonate a toy during the event and receive a $5 gift card\, redeemable at any participating Kimmswick merchant. All toys collected will benefit families in need in Jefferson County. \n\nPlan Your Visit to Kimmswick!\nMake the most of your trip with everything Kimmswick has to offer: \nShop: Discover unique boutiques\, charming gifts\, and local treasures. Explore Shops\nDine: Indulge in delicious meals and sweet treats at our local restaurants. See Dining Options\nStay: Turn your visit into a getaway and enjoy nearby lodging. Find Lodging \nStart planning your perfect day (or weekend) in Kimmswick today! \n 
URL:https://www.gokimmswick.com/events/kimmswick-elf-hunt/
ATTACH;FMTTYPE=image/png:https://www.gokimmswick.com/wp-content/uploads/2023/07/ChatGPT-Image-Feb-26-2026-08_13_58-PM.png
END:VEVENT
END:VCALENDAR