BEGIN:VCALENDAR
VERSION:2.0
PRODID:-//Go Kimmswick - ECPv6.15.20//NONSGML v1.0//EN
CALSCALE:GREGORIAN
METHOD:PUBLISH
X-ORIGINAL-URL:https://www.gokimmswick.com
X-WR-CALDESC:Events for Go Kimmswick
REFRESH-INTERVAL;VALUE=DURATION:PT1H
X-Robots-Tag:noindex
X-PUBLISHED-TTL:PT1H
BEGIN:VTIMEZONE
TZID:America/Chicago
BEGIN:DAYLIGHT
TZOFFSETFROM:-0600
TZOFFSETTO:-0500
TZNAME:CDT
DTSTART:20240310T080000
END:DAYLIGHT
BEGIN:STANDARD
TZOFFSETFROM:-0500
TZOFFSETTO:-0600
TZNAME:CST
DTSTART:20241103T070000
END:STANDARD
BEGIN:DAYLIGHT
TZOFFSETFROM:-0600
TZOFFSETTO:-0500
TZNAME:CDT
DTSTART:20250309T080000
END:DAYLIGHT
BEGIN:STANDARD
TZOFFSETFROM:-0500
TZOFFSETTO:-0600
TZNAME:CST
DTSTART:20251102T070000
END:STANDARD
BEGIN:DAYLIGHT
TZOFFSETFROM:-0600
TZOFFSETTO:-0500
TZNAME:CDT
DTSTART:20260308T080000
END:DAYLIGHT
BEGIN:STANDARD
TZOFFSETFROM:-0500
TZOFFSETTO:-0600
TZNAME:CST
DTSTART:20261101T070000
END:STANDARD
END:VTIMEZONE
BEGIN:VEVENT
DTSTART;TZID=America/Chicago:20250618T150000
DTEND;TZID=America/Chicago:20250618T210000
DTSTAMP:20260423T204627
CREATED:20250527T182720Z
LAST-MODIFIED:20250527T182720Z
UID:256479-1750258800-1750280400@www.gokimmswick.com
SUMMARY:Wednesday Wine Walk
DESCRIPTION:Get ready for an unforgettable evening of wine\, boutique shopping\, and community charm at the highly anticipated Kimmswick Wednesday Wine Walk on Wednesday\, June 18\, 2025. \nThis exclusive 21+ event promises an intimate and festive experience exploring 14 charming boutiques and La Chance Winery in the heart of historic Kimmswick. The evening begins with check-in from 3:00 to 6:00 PM\, followed by Sip & Shop from 3:00 to 8:00 PM\, and culminates in a Wrap Party at 8:00 PM on the La Chance Winery patio. \nTickets are just $30 and include: \n\nA swag bag filled with gifts\nYour own personal wine glass\nWine and chocolate tastings at each boutique\nExclusive in-store offers for ticket holders\n\nEnd the evening with a chance to win fabulous gift baskets and raffle prizes at the Wrap Party. Food and beverages will be available for purchase at La Chance Winery and Restaurant throughout the event. \n“This event perfectly captures the spirit of Kimmswick—small-town charm\, great wine\, and even better company\,” said organizers. “It’s the perfect midweek escape to relax\, unwind\, and support local businesses.” \nTickets are limited and available on the La Chance website:\nhttps://lachancevineyards.com/event/kimmswick-wine-walk/
URL:https://www.gokimmswick.com/events/wednesday-wine-walk/
ATTACH;FMTTYPE=image/png:https://www.gokimmswick.com/wp-content/uploads/2025/05/FB-Event-Image-2025.png
END:VEVENT
END:VCALENDAR