BEGIN:VCALENDAR
VERSION:2.0
PRODID:-//Go Kimmswick - ECPv6.15.20//NONSGML v1.0//EN
CALSCALE:GREGORIAN
METHOD:PUBLISH
X-ORIGINAL-URL:https://www.gokimmswick.com
X-WR-CALDESC:Events for Go Kimmswick
REFRESH-INTERVAL;VALUE=DURATION:PT1H
X-Robots-Tag:noindex
X-PUBLISHED-TTL:PT1H
BEGIN:VTIMEZONE
TZID:America/Denver
BEGIN:DAYLIGHT
TZOFFSETFROM:-0700
TZOFFSETTO:-0600
TZNAME:MDT
DTSTART:20250309T090000
END:DAYLIGHT
BEGIN:STANDARD
TZOFFSETFROM:-0600
TZOFFSETTO:-0700
TZNAME:MST
DTSTART:20251102T080000
END:STANDARD
BEGIN:DAYLIGHT
TZOFFSETFROM:-0700
TZOFFSETTO:-0600
TZNAME:MDT
DTSTART:20260308T090000
END:DAYLIGHT
BEGIN:STANDARD
TZOFFSETFROM:-0600
TZOFFSETTO:-0700
TZNAME:MST
DTSTART:20261101T080000
END:STANDARD
BEGIN:DAYLIGHT
TZOFFSETFROM:-0700
TZOFFSETTO:-0600
TZNAME:MDT
DTSTART:20270314T090000
END:DAYLIGHT
BEGIN:STANDARD
TZOFFSETFROM:-0600
TZOFFSETTO:-0700
TZNAME:MST
DTSTART:20271107T080000
END:STANDARD
END:VTIMEZONE
BEGIN:VEVENT
DTSTART;VALUE=DATE:20260606
DTEND;VALUE=DATE:20260608
DTSTAMP:20260423T055938
CREATED:20230510T193510Z
LAST-MODIFIED:20260312T211354Z
UID:238382-1780704000-1780876799@www.gokimmswick.com
SUMMARY:Strawberry Festival
DESCRIPTION:Please Note: This is a City of Kimmswick Organized Event.For all vendor space\, parking rental\, and event-related inquiries\, please contact the City of Kimmswick directly at 636-464-7407 or visit www.cityofkimmswick.org for more information and applications. \nThe Strawberry Festival is held each year on the first weekend in June. This year the dates are June 6th and 7th\, 2026. Hours are from 10am – 5pm each day. \nThank you for supporting our small community and our wonderful businesses! \n\nPlan Your Visit to Kimmswick!\nMake the most of your trip with everything Kimmswick has to offer: \nShop: Discover unique boutiques\, charming gifts\, and local treasures. Explore Shops\nDine: Indulge in delicious meals and sweet treats at our local restaurants. See Dining Options\nStay: Turn your visit into a getaway and enjoy nearby lodging. Find Lodging \nStart planning your perfect day (or weekend) in Kimmswick today!
URL:https://www.gokimmswick.com/events/strawberry-festival/
ATTACH;FMTTYPE=image/png:https://www.gokimmswick.com/wp-content/uploads/2023/05/Red-Collage-Homemade-Strawberry-Jam-Plaid-Fabric-Circle-Sticker-Facebook-Cover-3.png
END:VEVENT
BEGIN:VEVENT
DTSTART;TZID=America/Denver:20260621T090000
DTEND;TZID=America/Denver:20260621T150000
DTSTAMP:20260423T055938
CREATED:20230510T182632Z
LAST-MODIFIED:20260227T012105Z
UID:238379-1782032400-1782054000@www.gokimmswick.com
SUMMARY:Father’s Day Car Show
DESCRIPTION:Come on down for the Kimmswick Car Show Sunday\, June 21st\, 2026! Enjoy a day of lunch and shopping\, and view the cars\, trucks\, and motorcycles on display at this one-of-a-kind Car Show! There’s fun for the entire family\, including a D.J. and other activities. Open to all makes and models of cars. \nCar Show Highlights (subject to change): \n\nOpen to all makes and models of cars\, trucks\, and motorcycles\nShow will be held rain or shine\nEntry Fee $15 (no refunds)\nRegistration 9 AM-11 AM OR when all spaces are filled which will be appropriately 200 parking spots\nAwards at 3:00. The awards will be presented by over 20 participating merchants\, strictly the vehicle of their choice – No Judging.\nDash plaques given to first 100 vehicles\nAll proceeds benefit Kimmswick’s Visitor Center\nMore information\, call Visitor Center 636-464-6464\n\n\nPlan Your Visit to Kimmswick!\nMake the most of your trip with everything Kimmswick has to offer: \nShop: Discover unique boutiques\, charming gifts\, and local treasures. Explore Shops\nDine: Indulge in delicious meals and sweet treats at our local restaurants. See Dining Options\nStay: Turn your visit into a getaway and enjoy nearby lodging. Find Lodging \nStart planning your perfect day (or weekend) in Kimmswick today!
URL:https://www.gokimmswick.com/events/fathers-day-carshow/
ATTACH;FMTTYPE=image/png:https://www.gokimmswick.com/wp-content/uploads/2023/05/Car-Show-Flyer-Facebook-Cover-5.png
END:VEVENT
BEGIN:VEVENT
DTSTART;TZID=America/Denver:20260627T090000
DTEND;TZID=America/Denver:20260627T170000
DTSTAMP:20260423T055938
CREATED:20230510T183834Z
LAST-MODIFIED:20260227T011429Z
UID:238387-1782550800-1782579600@www.gokimmswick.com
SUMMARY:Daylily Sale
DESCRIPTION:Join us at 6005 4th St.\, Kimmswick for our annual Daylily Sale Saturday\, June 27\, 2026 ~ 9am – 5pm (or until plants have sold out). Offering about 1200 freshly dug and bagged plants featuring approximately 90 different daylilies. This is a great opportunity to purchase both new and older varieties not available for sale in nurseries or garden centers. Some pre-bagged collections are available at a reduced price\, and you may receive a discount on large purchases. A free page of planting and growing advice is also available. \n\n\nThis is the 26th year for the sale and it often sells out\, so be sure to arrive early for the best selection. Some varieties are in limited supply. \nProceeds benefit the Kimmswick Visitor Center. \n\n\nPlan Your Visit to Kimmswick!\nMake the most of your trip with everything Kimmswick has to offer: \nShop: Discover unique boutiques\, charming gifts\, and local treasures. Explore Shops\nDine: Indulge in delicious meals and sweet treats at our local restaurants. See Dining Options\nStay: Turn your visit into a getaway and enjoy nearby lodging. Find Lodging \nStart planning your perfect day (or weekend) in Kimmswick today!
URL:https://www.gokimmswick.com/events/daylily-sale/
ATTACH;FMTTYPE=image/png:https://www.gokimmswick.com/wp-content/uploads/2024/01/Daylily-Sale-2.png
END:VEVENT
END:VCALENDAR