BEGIN:VCALENDAR
VERSION:2.0
PRODID:-//Go Kimmswick - ECPv6.15.20//NONSGML v1.0//EN
CALSCALE:GREGORIAN
METHOD:PUBLISH
X-WR-CALNAME:Go Kimmswick
X-ORIGINAL-URL:https://www.gokimmswick.com
X-WR-CALDESC:Events for Go Kimmswick
REFRESH-INTERVAL;VALUE=DURATION:PT1H
X-Robots-Tag:noindex
X-PUBLISHED-TTL:PT1H
BEGIN:VTIMEZONE
TZID:America/Denver
BEGIN:DAYLIGHT
TZOFFSETFROM:-0700
TZOFFSETTO:-0600
TZNAME:MDT
DTSTART:20250309T090000
END:DAYLIGHT
BEGIN:STANDARD
TZOFFSETFROM:-0600
TZOFFSETTO:-0700
TZNAME:MST
DTSTART:20251102T080000
END:STANDARD
BEGIN:DAYLIGHT
TZOFFSETFROM:-0700
TZOFFSETTO:-0600
TZNAME:MDT
DTSTART:20260308T090000
END:DAYLIGHT
BEGIN:STANDARD
TZOFFSETFROM:-0600
TZOFFSETTO:-0700
TZNAME:MST
DTSTART:20261101T080000
END:STANDARD
BEGIN:DAYLIGHT
TZOFFSETFROM:-0700
TZOFFSETTO:-0600
TZNAME:MDT
DTSTART:20270314T090000
END:DAYLIGHT
BEGIN:STANDARD
TZOFFSETFROM:-0600
TZOFFSETTO:-0700
TZNAME:MST
DTSTART:20271107T080000
END:STANDARD
END:VTIMEZONE
BEGIN:VEVENT
DTSTART;VALUE=DATE:20260724
DTEND;VALUE=DATE:20260727
DTSTAMP:20260423T004621
CREATED:20230510T185749Z
LAST-MODIFIED:20260227T020053Z
UID:238395-1784851200-1785110399@www.gokimmswick.com
SUMMARY:Kimmswick Krazy Days
DESCRIPTION:Visit Kimmswick July 24-26\, 2026 for the Kimmswick Krazy Days. Discover great deals at charming boutiques and unique shops across Kimmswick.  Merchants will be putting their merchandise outside their stores at a discount. We invite you to come stroll the streets and find some deals & steals! \nIf you have any questions\, call the Visitors Center (636) 464-6464. \n\nPlan Your Visit to Kimmswick!\nMake the most of your trip with everything Kimmswick has to offer: \nShop: Discover unique boutiques\, charming gifts\, and local treasures. Explore Shops\nDine: Indulge in delicious meals and sweet treats at our local restaurants. See Dining Options\nStay: Turn your visit into a getaway and enjoy nearby lodging. Find Lodging \nStart planning your perfect day (or weekend) in Kimmswick today!
URL:https://www.gokimmswick.com/events/sizzling-summer-sidewalk-sale/
ATTACH;FMTTYPE=image/png:https://www.gokimmswick.com/wp-content/uploads/2024/01/Sizzling-Summer-Sidewalk-Facebook-Event-Cover-5.png
END:VEVENT
END:VCALENDAR